BEGIN:VCALENDAR
VERSION:2.0
PRODID:-//Squarespace Inc/Squarespace 6//v6//EN
BEGIN:VEVENT
UID:5f922c922226271c5b5d4767@squarespace.com
DTSTAMP:20201030T043751Z
DTSTART:20201031T011500Z
DTEND:20201031T015500Z
SUMMARY:Discovery Beans - SPECIAL DADS HALLOWEEN CLASS - Sitting Babies to 
 Walkers
END:VEVENT
END:VCALENDAR
