BEGIN:VCALENDAR
VERSION:2.0
PRODID:-//Squarespace Inc/Squarespace 6//v6//EN
BEGIN:VEVENT
UID:5f8e336adc353a0176e9036a@squarespace.com
DTSTAMP:20201020T004807Z
DTSTART:20201105T000000Z
DTEND:20201105T004000Z
SUMMARY:Discovery Beans - Sitting Babies to Walkers
END:VEVENT
END:VCALENDAR
