BEGIN:VCALENDAR
VERSION:2.0
PRODID:-//Squarespace Inc/Squarespace 6//v6//EN
BEGIN:VEVENT
UID:5f8e33f6e6ed3f10a1a49594@squarespace.com
DTSTAMP:20201020T004920Z
DTSTART:20201119T000000Z
DTEND:20201119T004000Z
SUMMARY:Discovery Beans - Sitting Babies to Walkers
END:VEVENT
END:VCALENDAR
