BEGIN:VCALENDAR
VERSION:2.0
PRODID:-//Squarespace Inc/Squarespace 6//v6//EN
BEGIN:VEVENT
UID:5f8e3419e1de6b06704f4e24@squarespace.com
DTSTAMP:20201112T230225Z
DTSTART:20201126T000000Z
DTEND:20201126T004000Z
SUMMARY:Discovery Beans - Sitting Babies to Walkers
END:VEVENT
END:VCALENDAR
