BEGIN:VCALENDAR
VERSION:2.0
PRODID:-//Squarespace Inc/Squarespace 6//v6//EN
BEGIN:VEVENT
UID:5f8e343843a8423e3c55ce03@squarespace.com
DTSTAMP:20201112T230518Z
DTSTART:20201203T000000Z
DTEND:20201203T004000Z
SUMMARY:Discovery Beans - Sitting Babies to Walkers
END:VEVENT
END:VCALENDAR
