BEGIN:VCALENDAR
VERSION:2.0
PRODID:-//Squarespace Inc/Squarespace 6//v6//EN
BEGIN:VEVENT
UID:5f8e345a1728ce53b9586e71@squarespace.com
DTSTAMP:20201112T230827Z
DTSTART:20201210T000000Z
DTEND:20201210T004000Z
SUMMARY:Discovery Beans - Sitting Babies to Walkers
END:VEVENT
END:VCALENDAR
