BEGIN:VCALENDAR
VERSION:2.0
PRODID:-//Squarespace Inc/Squarespace 6//v6//EN
BEGIN:VEVENT
UID:5f8e349f965c85490b18dcec@squarespace.com
DTSTAMP:20201020T005303Z
DTSTART:20201028T010000Z
DTEND:20201028T014000Z
SUMMARY:Discovery Beans - Sitting Babies to Walkers
END:VEVENT
END:VCALENDAR
