BEGIN:VCALENDAR
VERSION:2.0
PRODID:-//Squarespace Inc/Squarespace 6//v6//EN
BEGIN:VEVENT
UID:5f8e34c25ae5f375b14e50b3@squarespace.com
DTSTAMP:20201020T005317Z
DTSTART:20201104T010000Z
DTEND:20201104T014000Z
SUMMARY:Discovery Beans - Sitting Babies to Walkers 
END:VEVENT
END:VCALENDAR
