BEGIN:VCALENDAR
VERSION:2.0
PRODID:-//Squarespace Inc/Squarespace 6//v6//EN
BEGIN:VEVENT
UID:5f8e350190e61209aa9fdf17@squarespace.com
DTSTAMP:20201020T005349Z
DTSTART:20201111T010000Z
DTEND:20201111T014000Z
SUMMARY:Discovery Beans - Sitting Babies to Walkers
END:VEVENT
END:VCALENDAR
