BEGIN:VCALENDAR
VERSION:2.0
PRODID:-//Squarespace Inc/Squarespace 6//v6//EN
BEGIN:VEVENT
UID:5f8e3525e6ed3f10a1a4b5bc@squarespace.com
DTSTAMP:20201020T005425Z
DTSTART:20201118T010000Z
DTEND:20201118T014000Z
SUMMARY:Discovery Beans - Sitting Babies to Walkers
END:VEVENT
END:VCALENDAR
