BEGIN:VCALENDAR
VERSION:2.0
PRODID:-//Squarespace Inc/Squarespace 6//v6//EN
BEGIN:VEVENT
UID:5f8e354b0d07d02227e4e46b@squarespace.com
DTSTAMP:20201112T230212Z
DTSTART:20201125T010000Z
DTEND:20201125T014000Z
SUMMARY:Discovery Beans - Sitting Babies to Walkers
END:VEVENT
END:VCALENDAR
