BEGIN:VCALENDAR
VERSION:2.0
PRODID:-//Squarespace Inc/Squarespace 6//v6//EN
BEGIN:VEVENT
UID:5f8e356dd788cc7fb9c5856b@squarespace.com
DTSTAMP:20201112T230507Z
DTSTART:20201202T010000Z
DTEND:20201202T014000Z
SUMMARY:Discovery Beans - Sitting Babies to Walkers
END:VEVENT
END:VCALENDAR
