BEGIN:VCALENDAR
VERSION:2.0
PRODID:-//Squarespace Inc/Squarespace 6//v6//EN
BEGIN:VEVENT
UID:5f8e35a843a8423e3c56039c@squarespace.com
DTSTAMP:20201112T230814Z
DTSTART:20201209T010000Z
DTEND:20201209T014000Z
SUMMARY:Discovery Beans - Sitting Babies to Walkers
END:VEVENT
END:VCALENDAR
