BEGIN:VCALENDAR
VERSION:2.0
PRODID:-//Squarespace Inc/Squarespace 6//v6//EN
BEGIN:VEVENT
UID:5f8e35c8f11ecf3c58d5e692@squarespace.com
DTSTAMP:20201112T231149Z
DTSTART:20201216T010000Z
DTEND:20201216T014000Z
SUMMARY:Discovery Beans - Sitting Babies to Walkers
END:VEVENT
END:VCALENDAR
