BEGIN:VCALENDAR
VERSION:2.0
PRODID:-//Squarespace Inc/Squarespace 6//v6//EN
BEGIN:VEVENT
UID:5f8e35f5c9e1691d59d37fe1@squarespace.com
DTSTAMP:20201020T005755Z
DTSTART:20201030T010000Z
DTEND:20201030T014000Z
SUMMARY:Discovery Beans - Sitting Babies to Walkers
END:VEVENT
END:VCALENDAR
