BEGIN:VCALENDAR
VERSION:2.0
PRODID:-//Squarespace Inc/Squarespace 6//v6//EN
BEGIN:VEVENT
UID:5f8e361bd9a86a5bd6ae8fe7@squarespace.com
DTSTAMP:20201020T005832Z
DTSTART:20201106T010000Z
DTEND:20201106T014000Z
SUMMARY:Discovery Beans - Sitting Babies to Walkers
END:VEVENT
END:VCALENDAR
