BEGIN:VCALENDAR
VERSION:2.0
PRODID:-//Squarespace Inc/Squarespace 6//v6//EN
BEGIN:VEVENT
UID:5f8e3640e1de6b06704f99f5@squarespace.com
DTSTAMP:20201020T005905Z
DTSTART:20201113T010000Z
DTEND:20201113T014000Z
SUMMARY:Discovery Beans - Sitting Babies to Walkers
END:VEVENT
END:VCALENDAR
