BEGIN:VCALENDAR
VERSION:2.0
PRODID:-//Squarespace Inc/Squarespace 6//v6//EN
BEGIN:VEVENT
UID:5f8e3668dc353a0176e975f9@squarespace.com
DTSTAMP:20201020T005945Z
DTSTART:20201120T010000Z
DTEND:20201120T014000Z
SUMMARY:Discovery Beans - Sitting Babies to Walkers
END:VEVENT
END:VCALENDAR
