BEGIN:VCALENDAR
VERSION:2.0
PRODID:-//Squarespace Inc/Squarespace 6//v6//EN
BEGIN:VEVENT
UID:5fac85d9dd1d4d0520b7f778@squarespace.com
DTSTAMP:20201112T230050Z
DTSTART:20201123T000000Z
DTEND:20201123T004000Z
SUMMARY:Discovery Beans - Sitting Babies to Walkers
END:VEVENT
END:VCALENDAR
