BEGIN:VCALENDAR
VERSION:2.0
PRODID:-//Squarespace Inc/Squarespace 6//v6//EN
BEGIN:VEVENT
UID:5f8e368af11ecf3c58d60ecf@squarespace.com
DTSTAMP:20201112T230312Z
DTSTART:20201127T010000Z
DTEND:20201127T014000Z
SUMMARY:Discovery Beans - Sitting Babies to Walkers
END:VEVENT
END:VCALENDAR
