BEGIN:VCALENDAR
VERSION:2.0
PRODID:-//Squarespace Inc/Squarespace 6//v6//EN
BEGIN:VEVENT
UID:5f8e36ad23447922ce0a5dbb@squarespace.com
DTSTAMP:20201112T230602Z
DTSTART:20201204T010000Z
DTEND:20201204T014000Z
SUMMARY:Discovery Beans - Sitting Babies to Walkers
END:VEVENT
END:VCALENDAR
