BEGIN:VCALENDAR
VERSION:2.0
PRODID:-//Squarespace Inc/Squarespace 6//v6//EN
BEGIN:VEVENT
UID:5f8e36d1e6ed3f10a1a4fca6@squarespace.com
DTSTAMP:20201112T230916Z
DTSTART:20201211T010000Z
DTEND:20201211T014000Z
SUMMARY:Discovery Beans - Sitting Babies to Walkers
END:VEVENT
END:VCALENDAR
