BEGIN:VCALENDAR
VERSION:2.0
PRODID:-//Squarespace Inc/Squarespace 6//v6//EN
BEGIN:VEVENT
UID:5f8e36f72918db700a73ac52@squarespace.com
DTSTAMP:20201112T231429Z
DTSTART:20201218T010000Z
DTEND:20201218T014000Z
SUMMARY:Discovery Beans - Sitting Babies to Walkers
END:VEVENT
END:VCALENDAR
