BEGIN:VCALENDAR
VERSION:2.0
PRODID:-//Squarespace Inc/Squarespace 6//v6//EN
BEGIN:VEVENT
UID:5ff29842143c0d28f24c845e@squarespace.com
DTSTAMP:20210104T042552Z
DTSTART:20210112T000000Z
DTEND:20210112T004000Z
SUMMARY:Discovery Beans - Sitting Babies to Walkers
END:VEVENT
END:VCALENDAR
