BEGIN:VCALENDAR
VERSION:2.0
PRODID:-//Squarespace Inc/Squarespace 6//v6//EN
BEGIN:VEVENT
UID:5ff7cc6c63f2691ba9960c67@squarespace.com
DTSTAMP:20210108T030753Z
DTSTART:20210119T000000Z
DTEND:20210119T004000Z
SUMMARY:Discovery Beans - Sitting Babies to Walkers
END:VEVENT
END:VCALENDAR
