BEGIN:VCALENDAR
VERSION:2.0
PRODID:-//Squarespace Inc/Squarespace 6//v6//EN
BEGIN:VEVENT
UID:5ff298765de1995715d21a2e@squarespace.com
DTSTAMP:20210104T042507Z
DTSTART:20210113T010000Z
DTEND:20210113T014000Z
SUMMARY:Discovery Beans - Sitting Babies to NEW Walkers
END:VEVENT
END:VCALENDAR
