BEGIN:VCALENDAR
VERSION:2.0
PRODID:-//Squarespace Inc/Squarespace 6//v6//EN
BEGIN:VEVENT
UID:5ff7ccebc809a659c2421173@squarespace.com
DTSTAMP:20210108T030952Z
DTSTART:20210120T010000Z
DTEND:20210120T014000Z
SUMMARY:Discovery Beans - Sitting Babies to NEW Walkers
END:VEVENT
END:VCALENDAR
