BEGIN:VCALENDAR
VERSION:2.0
PRODID:-//Squarespace Inc/Squarespace 6//v6//EN
BEGIN:VEVENT
UID:5ff7ce6bc809a659c24246dc@squarespace.com
DTSTAMP:20210108T031620Z
DTSTART:20210127T010000Z
DTEND:20210127T014000Z
SUMMARY:Discovery Beans - Sitting Babies to NEW Walkers
END:VEVENT
END:VCALENDAR
