BEGIN:VCALENDAR
VERSION:2.0
PRODID:-//Squarespace Inc/Squarespace 6//v6//EN
BEGIN:VEVENT
UID:5ff29996e293bc1fe291597d@squarespace.com
DTSTAMP:20210104T042943Z
DTSTART:20210115T000000Z
DTEND:20210115T004000Z
SUMMARY:Discovery Beans - Sitting Babies to NEW Walkers
END:VEVENT
END:VCALENDAR
