BEGIN:VCALENDAR
VERSION:2.0
PRODID:-//Squarespace Inc/Squarespace 6//v6//EN
BEGIN:VEVENT
UID:5ff7cdcb313f4639dd525298@squarespace.com
DTSTAMP:20210108T031857Z
DTSTART:20210122T010000Z
DTEND:20210122T014000Z
SUMMARY:Discovery Beans - Sitting Babies to NEW Walkers
END:VEVENT
END:VCALENDAR
