BEGIN:VCALENDAR
VERSION:2.0
PRODID:-//Squarespace Inc/Squarespace 6//v6//EN
BEGIN:VEVENT
UID:5ff7cf711218b46be6efe2a9@squarespace.com
DTSTAMP:20210108T032047Z
DTSTART:20210129T010000Z
DTEND:20210129T014000Z
SUMMARY:Discovery Beans - Sitting Babies to NEW Walkers
END:VEVENT
END:VCALENDAR
