BEGIN:VCALENDAR
VERSION:2.0
PRODID:-//Squarespace Inc/Squarespace 6//v6//EN
BEGIN:VEVENT
UID:60127bd0af9c21288467716b@squarespace.com
DTSTAMP:20210128T085529Z
DTSTART:20210202T000000Z
DTEND:20210202T004000Z
SUMMARY:Discovery Beans - Sitting Babies to NEW Walkers
END:VEVENT
END:VCALENDAR
