BEGIN:VCALENDAR
VERSION:2.0
PRODID:-//Squarespace Inc/Squarespace 6//v6//EN
BEGIN:VEVENT
UID:60127cce5aa53673c394fd10@squarespace.com
DTSTAMP:20210128T085934Z
DTSTART:20210204T000000Z
DTEND:20210204T004000Z
SUMMARY:Discovery Beans - Sitting Babies to NEW Walkers
END:VEVENT
END:VCALENDAR
