BEGIN:VCALENDAR
VERSION:2.0
PRODID:-//Squarespace Inc/Squarespace 6//v6//EN
BEGIN:VEVENT
UID:60127e10069efe7610ff6aee@squarespace.com
DTSTAMP:20210128T090445Z
DTSTART:20210209T000000Z
DTEND:20210209T004000Z
SUMMARY:Discovery Beans - Sitting Babies to NEW Walkers
END:VEVENT
END:VCALENDAR
