BEGIN:VCALENDAR
VERSION:2.0
PRODID:-//Squarespace Inc/Squarespace 6//v6//EN
BEGIN:VEVENT
UID:60127ed77a96984eb6873994@squarespace.com
DTSTAMP:20210128T090810Z
DTSTART:20210211T000000Z
DTEND:20210211T004000Z
SUMMARY:Discovery Beans - Sitting Babies to NEW Walkers
END:VEVENT
END:VCALENDAR
