BEGIN:VCALENDAR
VERSION:2.0
PRODID:-//Squarespace Inc/Squarespace 6//v6//EN
BEGIN:VEVENT
UID:60127f91ac62e54e769881dd@squarespace.com
DTSTAMP:20210128T091120Z
DTSTART:20210216T000000Z
DTEND:20210216T004000Z
SUMMARY:Discovery Beans - Sitting Babies to NEW Walkers
END:VEVENT
END:VCALENDAR
