BEGIN:VCALENDAR
VERSION:2.0
PRODID:-//Squarespace Inc/Squarespace 6//v6//EN
BEGIN:VEVENT
UID:60128054059c0c3780dda51f@squarespace.com
DTSTAMP:20210128T091424Z
DTSTART:20210218T000000Z
DTEND:20210218T004000Z
SUMMARY:Discovery Beans - Sitting Babies to NEW Walkers
END:VEVENT
END:VCALENDAR
