BEGIN:VCALENDAR
VERSION:2.0
PRODID:-//Squarespace Inc/Squarespace 6//v6//EN
BEGIN:VEVENT
UID:60127c9f2687f47e36d16a21@squarespace.com
DTSTAMP:20210128T085838Z
DTSTART:20210203T010000Z
DTEND:20210203T014000Z
SUMMARY:Discovery Beans - Sitting Babies to NEW Walkers
END:VEVENT
END:VCALENDAR
