BEGIN:VCALENDAR
VERSION:2.0
PRODID:-//Squarespace Inc/Squarespace 6//v6//EN
BEGIN:VEVENT
UID:60127dd2e8a42f08c99efc9a@squarespace.com
DTSTAMP:20210128T090348Z
DTSTART:20210205T010000Z
DTEND:20210205T014000Z
SUMMARY:Discovery Beans - Sitting Babies to NEW Walkers
END:VEVENT
END:VCALENDAR
