BEGIN:VCALENDAR
VERSION:2.0
PRODID:-//Squarespace Inc/Squarespace 6//v6//EN
BEGIN:VEVENT
UID:60127e5d686ce87f7644f7a4@squarespace.com
DTSTAMP:20210128T090617Z
DTSTART:20210210T010000Z
DTEND:20210210T014000Z
SUMMARY:Discovery Beans - Sitting Babies to NEW Walkers
END:VEVENT
END:VCALENDAR
