BEGIN:VCALENDAR
VERSION:2.0
PRODID:-//Squarespace Inc/Squarespace 6//v6//EN
BEGIN:VEVENT
UID:60127f56e4d96b17d4b497cd@squarespace.com
DTSTAMP:20210128T091012Z
DTSTART:20210212T010000Z
DTEND:20210212T014000Z
SUMMARY:Discovery Beans - Sitting Babies to NEW Walkers
END:VEVENT
END:VCALENDAR
