BEGIN:VCALENDAR
VERSION:2.0
PRODID:-//Squarespace Inc/Squarespace 6//v6//EN
BEGIN:VEVENT
UID:60128019647094629398fca8@squarespace.com
DTSTAMP:20210128T091325Z
DTSTART:20210217T010000Z
DTEND:20210217T014000Z
SUMMARY:Discovery Beans - Sitting Babies to NEW Walkers
END:VEVENT
END:VCALENDAR
