BEGIN:VCALENDAR
VERSION:2.0
PRODID:-//Squarespace Inc/Squarespace 6//v6//EN
BEGIN:VEVENT
UID:6012812e059c0c3780ddb123@squarespace.com
DTSTAMP:20210128T091809Z
DTSTART:20210219T010000Z
DTEND:20210219T014000Z
SUMMARY:Discovery Beans - Sitting Babies to NEW Walkers
END:VEVENT
END:VCALENDAR
