BEGIN:VCALENDAR
VERSION:2.0
PRODID:-//Squarespace Inc/Squarespace 6//v6//EN
BEGIN:VEVENT
UID:5ff29938232e037c66cb9796@squarespace.com
DTSTAMP:20210104T042759Z
DTSTART:20210114T000000Z
DTEND:20210114T004000Z
SUMMARY:Discovery Beans - Sitting Babies to Walkers
END:VEVENT
END:VCALENDAR
