BEGIN:VCALENDAR
VERSION:2.0
PRODID:-//Squarespace Inc/Squarespace 6//v6//EN
BEGIN:VEVENT
UID:5ff7cd06e72bb40340ba109f@squarespace.com
DTSTAMP:20210108T031022Z
DTSTART:20210121T000000Z
DTEND:20210121T004000Z
SUMMARY:Discovery Beans - Sitting Babies to Walkers
END:VEVENT
END:VCALENDAR
