BEGIN:VCALENDAR
VERSION:2.0
PRODID:-//Squarespace Inc/Squarespace 6//v6//EN
BEGIN:VEVENT
UID:5ff7ce9ffc6bad1cdf1a3197@squarespace.com
DTSTAMP:20210108T031711Z
DTSTART:20210128T000000Z
DTEND:20210128T004000Z
SUMMARY:Discovery Beans - Sitting Babies to Walkers
END:VEVENT
END:VCALENDAR
