BEGIN:VCALENDAR
VERSION:2.0
PRODID:-//Squarespace Inc/Squarespace 6//v6//EN
BEGIN:VEVENT
UID:5f8e323d965c85490b188c38@squarespace.com
DTSTAMP:20201020T004200Z
DTSTART:20201103T000000Z
DTEND:20201103T004000Z
SUMMARY:Discovery Beans - Sitting Babies to Walkers
END:VEVENT
END:VCALENDAR
