BEGIN:VCALENDAR
VERSION:2.0
PRODID:-//Squarespace Inc/Squarespace 6//v6//EN
BEGIN:VEVENT
UID:5f8e325f43a8423e3c558722@squarespace.com
DTSTAMP:20201020T004231Z
DTSTART:20201110T000000Z
DTEND:20201110T004000Z
SUMMARY:Discovery Beans - Sitting Babies to Walkers
END:VEVENT
END:VCALENDAR
