BEGIN:VCALENDAR
VERSION:2.0
PRODID:-//Squarespace Inc/Squarespace 6//v6//EN
BEGIN:VEVENT
UID:5f8e327f43a8423e3c558b6a@squarespace.com
DTSTAMP:20201020T004306Z
DTSTART:20201117T000000Z
DTEND:20201117T004000Z
SUMMARY:Discovery Beans - Sitting Babies to Walkers
END:VEVENT
END:VCALENDAR
