BEGIN:VCALENDAR
VERSION:2.0
PRODID:-//Squarespace Inc/Squarespace 6//v6//EN
BEGIN:VEVENT
UID:5f8e32a15ae5f375b14df16d@squarespace.com
DTSTAMP:20201112T230126Z
DTSTART:20201124T000000Z
DTEND:20201124T004000Z
SUMMARY:Discovery Beans - Sitting Babies to Walkers
END:VEVENT
END:VCALENDAR
